BEGIN:VCALENDAR
VERSION:2.0
PRODID:-//Library Market//iCal Export//EN
BEGIN:VEVENT
SUMMARY:HOMEWORK
UID:15456
DTSTAMP:20260424T010800Z
DTSTART:20260425T180000Z
DTEND:20260425T210000Z
LOCATION:
DESCRIPTION:
URL:https://morgancounty.librarycalendar.com/event/homework-15456
END:VEVENT
END:VCALENDAR
