BEGIN:VCALENDAR
VERSION:2.0
PRODID:-//Library Market//iCal Export//EN
BEGIN:VEVENT
SUMMARY:Online Study
UID:15445
DTSTAMP:20260424T023500Z
DTSTART:20260429T161500Z
DTEND:20260429T194500Z
LOCATION:
DESCRIPTION:
URL:https://morgancounty.librarycalendar.com/event/online-study-15445
END:VEVENT
END:VCALENDAR
