BEGIN:VCALENDAR
VERSION:2.0
PRODID:-//Library Market//iCal Export//EN
BEGIN:VEVENT
SUMMARY:Interview
UID:15442
DTSTAMP:20260423T200800Z
DTSTART:20260424T151500Z
DTEND:20260424T170000Z
LOCATION:
DESCRIPTION:Interview
URL:https://morgancounty.librarycalendar.com/event/interview-15442
END:VEVENT
END:VCALENDAR
