BEGIN:VCALENDAR
VERSION:2.0
PRODID:-//Library Market//iCal Export//EN
BEGIN:VEVENT
SUMMARY:Watercolor Bookmarks
UID:15439
DTSTAMP:20260424T010800Z
DTSTART:20260505T223000Z
DTEND:20260505T233000Z
LOCATION:145 South Chestnut St, Monrovia, IN 46157, United States
ROOM: Meeting Room
DESCRIPTION:Make a beautiful watercolor bookmark, just in time for Mother&
 #039;s Day!Dress for a mess, we will be using watercolor paints to decorat
 e old book pages.
URL:https://morgancounty.librarycalendar.com/event/watercolor-bookmarks-15
 439
END:VEVENT
END:VCALENDAR
