BEGIN:VCALENDAR
VERSION:2.0
PRODID:-//Library Market//iCal Export//EN
BEGIN:VEVENT
SUMMARY:Watercolor Bookmarks
UID:15438
DTSTAMP:20260424T010800Z
DTSTART:20260502T143000Z
DTEND:20260502T153000Z
LOCATION:145 South Chestnut St, Monrovia, IN 46157, United States
ROOM: Meeting Room
DESCRIPTION:Make a beautiful watercolor bookmark, just in time for Mother&
 #039;s Day! Dress for a mess, we will be using watercolor paint to decorat
 e old book pages. Can&#039;t make it on Saturday, May 2nd? Catch this prog
 ram on Tuesday, May 5th at 6:30 PM instead.
URL:https://morgancounty.librarycalendar.com/event/watercolor-bookmarks-15
 438
END:VEVENT
END:VCALENDAR
