BEGIN:VCALENDAR
VERSION:2.0
PRODID:-//Library Market//iCal Export//EN
BEGIN:VEVENT
SUMMARY:homework and studying
UID:15432
DTSTAMP:20260425T135900Z
DTSTART:20260422T130000Z
DTEND:20260422T170000Z
LOCATION:145 South Chestnut St, Monrovia, IN 46157, United States
ROOM: Study Room 4
DESCRIPTION:
URL:https://morgancounty.librarycalendar.com/event/homework-and-studying-1
 5432
END:VEVENT
END:VCALENDAR
