BEGIN:VCALENDAR
VERSION:2.0
PRODID:-//Library Market//iCal Export//EN
BEGIN:VEVENT
SUMMARY:studying
UID:15431
DTSTAMP:20260424T023500Z
DTSTART:20260429T170000Z
DTEND:20260429T233000Z
LOCATION:110 S Jefferson St, Martinsville, IN 46151, United States
ROOM: Study Room 3
DESCRIPTION:
URL:https://morgancounty.librarycalendar.com/event/studying-15431
END:VEVENT
END:VCALENDAR
