BEGIN:VCALENDAR
VERSION:2.0
PRODID:-//Library Market//iCal Export//EN
BEGIN:VEVENT
SUMMARY:Kyrens Therapy
UID:15427
DTSTAMP:20260425T135900Z
DTSTART:20260421T140000Z
DTEND:20260421T153000Z
LOCATION:
DESCRIPTION:
URL:https://morgancounty.librarycalendar.com/event/kyrens-therapy-15427
END:VEVENT
END:VCALENDAR
