BEGIN:VCALENDAR
VERSION:2.0
PRODID:-//Library Market//iCal Export//EN
BEGIN:VEVENT
SUMMARY:JEFF MAIN
UID:15421
DTSTAMP:20260424T010800Z
DTSTART:20260428T143000Z
DTEND:20260428T151500Z
LOCATION:
DESCRIPTION:
URL:https://morgancounty.librarycalendar.com/event/jeff-main-15421
END:VEVENT
END:VCALENDAR
