BEGIN:VCALENDAR
VERSION:2.0
PRODID:-//Library Market//iCal Export//EN
BEGIN:VEVENT
SUMMARY:Whitley
UID:15420
DTSTAMP:20260423T200800Z
DTSTART:20260423T220000Z
DTEND:20260423T234500Z
LOCATION:
DESCRIPTION:
URL:https://morgancounty.librarycalendar.com/event/whitley-15420
END:VEVENT
END:VCALENDAR
