BEGIN:VCALENDAR
VERSION:2.0
PRODID:-//Library Market//iCal Export//EN
BEGIN:VEVENT
SUMMARY:Whitley
UID:15419
DTSTAMP:20260425T135900Z
DTSTART:20260422T161500Z
DTEND:20260422T183000Z
LOCATION:110 S Jefferson St, Martinsville, IN 46151, United States
ROOM: Study Room 3
DESCRIPTION:
URL:https://morgancounty.librarycalendar.com/event/whitley-15419
END:VEVENT
END:VCALENDAR
