BEGIN:VCALENDAR
VERSION:2.0
PRODID:-//Library Market//iCal Export//EN
BEGIN:VEVENT
SUMMARY:Whitley
UID:15415
DTSTAMP:20260425T135900Z
DTSTART:20260420T154500Z
DTEND:20260420T180000Z
LOCATION:
DESCRIPTION:
URL:https://morgancounty.librarycalendar.com/event/whitley-15415
END:VEVENT
END:VCALENDAR
