BEGIN:VCALENDAR
VERSION:2.0
PRODID:-//Library Market//iCal Export//EN
BEGIN:VEVENT
SUMMARY:Turtoring
UID:15413
DTSTAMP:20260423T171700Z
DTSTART:20260423T203000Z
DTEND:20260423T213000Z
LOCATION:110 S Jefferson St, Martinsville, IN 46151, United States
ROOM: Study Room 3
DESCRIPTION:
URL:https://morgancounty.librarycalendar.com/event/turtoring-15413
END:VEVENT
END:VCALENDAR
