BEGIN:VCALENDAR
VERSION:2.0
PRODID:-//Library Market//iCal Export//EN
BEGIN:VEVENT
SUMMARY:Test
UID:15405
DTSTAMP:20260424T023500Z
DTSTART:20260505T154500Z
DTEND:20260505T181500Z
LOCATION:145 South Chestnut St, Monrovia, IN 46157, United States
ROOM: Study Room 4
DESCRIPTION:
URL:https://morgancounty.librarycalendar.com/event/test-15405
END:VEVENT
END:VCALENDAR
