BEGIN:VCALENDAR
VERSION:2.0
PRODID:-//Library Market//iCal Export//EN
BEGIN:VEVENT
SUMMARY:Kammen &amp; Moudy
UID:15402
DTSTAMP:20260425T135900Z
DTSTART:20260430T173000Z
DTEND:20260430T193000Z
LOCATION:110 S Jefferson St, Martinsville, IN 46151, United States
ROOM: Large Meeting Space
DESCRIPTION:Conducting a deposition
URL:https://morgancounty.librarycalendar.com/event/kammen-moudy-15402
END:VEVENT
END:VCALENDAR
