BEGIN:VCALENDAR
VERSION:2.0
PRODID:-//Library Market//iCal Export//EN
BEGIN:VEVENT
SUMMARY:study room
UID:15401
DTSTAMP:20260425T135900Z
DTSTART:20260420T130000Z
DTEND:20260420T183000Z
LOCATION:110 S Jefferson St, Martinsville, IN 46151, United States
ROOM: Study Room 3
DESCRIPTION:
URL:https://morgancounty.librarycalendar.com/event/study-room-15401
END:VEVENT
END:VCALENDAR
