BEGIN:VCALENDAR
VERSION:2.0
PRODID:-//Library Market//iCal Export//EN
BEGIN:VEVENT
SUMMARY:Kyrens therapy
UID:15399
DTSTAMP:20260420T071400Z
DTSTART:20260417T164500Z
DTEND:20260417T174500Z
LOCATION:
DESCRIPTION:
URL:https://morgancounty.librarycalendar.com/event/kyrens-therapy-15399
END:VEVENT
END:VCALENDAR
