BEGIN:VCALENDAR
VERSION:2.0
PRODID:-//Library Market//iCal Export//EN
BEGIN:VEVENT
SUMMARY:power circle network
UID:15395
DTSTAMP:20260419T142100Z
DTSTART:20260501T140000Z
DTEND:20260501T153000Z
LOCATION:110 S Jefferson St, Martinsville, IN 46151, United States
ROOM: Large Meeting Space
DESCRIPTION:The group is open to anyone interested in starting a business,
  currently owns a business, or works in sales.  Everyone should be intere
 sted in building referral relationships to grow their business and our com
 munity.
URL:https://morgancounty.librarycalendar.com/event/power-circle-network-15
 395
END:VEVENT
END:VCALENDAR
