BEGIN:VCALENDAR
VERSION:2.0
PRODID:-//Library Market//iCal Export//EN
BEGIN:VEVENT
SUMMARY:Book Review
UID:15379
DTSTAMP:20260419T142100Z
DTSTART:20260512T170000Z
DTEND:20260512T200000Z
LOCATION:110 S Jefferson St, Martinsville, IN 46151, United States
ROOM: Study Room 3
DESCRIPTION:
URL:https://morgancounty.librarycalendar.com/event/book-review-15379
END:VEVENT
END:VCALENDAR
